BEGIN:VCALENDAR
VERSION:2.0
PRODID:-//https://www.denbighchristianacademy.com//NONSGML kigkonsult.se iC
 alcreator 2.29.29//
CALSCALE:GREGORIAN
METHOD:PUBLISH
UID:499cd2c2-554d-4479-88ff-c6e05659f616
X-WR-CALNAME:JCal Pro Calendar
X-WR-CALDESC:Your online events calendar
X-WR-TIMEZONE:UTC
BEGIN:VTIMEZONE
TZID:UTC
END:VTIMEZONE
BEGIN:VEVENT
UID:20210310T190000UTC-59995h4jVK@http://www.denbighchristianacademy.com/
DTSTAMP:20260425T040229Z
CATEGORIES:DCA Events
DESCRIPTION:<p>Third Interim Period Reports issued for 4K nad 5K.</p>
DTSTART:20210310T000000Z
DTEND:20210310T235959Z
SUMMARY:Third Interim Period Reports issued (4K-5K)
URL:https://www.denbighchristianacademy.com/index.php/school-calendar/dca-e
 vents/11-dca-events/299-third-interim-period-reports-issued-4k-5k
X-ALT-DESC;FMTTYPE=TEXT/HTML:<p>Third Interim Period Reports issued for 4K 
 nad 5K.</p>
END:VEVENT
END:VCALENDAR
