BEGIN:VCALENDAR
VERSION:2.0
PRODID:-//https://www.denbighchristianacademy.com//NONSGML kigkonsult.se iC
 alcreator 2.29.29//
CALSCALE:GREGORIAN
METHOD:PUBLISH
UID:bf2e3e56-f673-48de-b2d9-d8665c73bffa
X-WR-CALNAME:JCal Pro Calendar
X-WR-CALDESC:Your online events calendar
X-WR-TIMEZONE:UTC
BEGIN:VTIMEZONE
TZID:UTC
END:VTIMEZONE
BEGIN:VEVENT
UID:20201231T190000UTC-6293oP5kiA@http://www.denbighchristianacademy.com/
DTSTAMP:20260424T221728Z
CATEGORIES:DCA Events
DESCRIPTION:<p>DCA closed for Christmas holiday.</p>
DTSTART:20201231T000000Z
DTEND:20201231T235959Z
SUMMARY:Christmas Holiday - DCA Closed
URL:https://www.denbighchristianacademy.com/index.php/school-calendar/dca-e
 vents/11-dca-events/281-christmas-holiday-dca-closed
X-ALT-DESC;FMTTYPE=TEXT/HTML:<p>DCA closed for Christmas holiday.</p>
END:VEVENT
END:VCALENDAR
