BEGIN:VCALENDAR
VERSION:2.0
PRODID:-//https://www.denbighchristianacademy.com//NONSGML kigkonsult.se iC
 alcreator 2.29.29//
CALSCALE:GREGORIAN
METHOD:PUBLISH
UID:60f1c2a4-d279-4c0c-aea8-dbf01f65102f
X-WR-CALNAME:JCal Pro Calendar
X-WR-CALDESC:Your online events calendar
X-WR-TIMEZONE:UTC
BEGIN:VTIMEZONE
TZID:UTC
END:VTIMEZONE
BEGIN:VEVENT
UID:20200217T160000UTC-0571sPNrua@http://dca.37west.com/
DTSTAMP:20260425T015034Z
CATEGORIES:DCA Events
DTSTART:20200217T000000Z
DTEND:20200217T235959Z
SUMMARY:PRESIDENT’S DAY – All of DCA Closed
URL:https://www.denbighchristianacademy.com/index.php/school-calendar/dca-e
 vents/11-dca-events/28-president-s-day-all-of-dca-closed
END:VEVENT
END:VCALENDAR
