BEGIN:VCALENDAR
VERSION:2.0
PRODID:-//https://www.denbighchristianacademy.com//NONSGML kigkonsult.se iC
 alcreator 2.29.29//
CALSCALE:GREGORIAN
METHOD:PUBLISH
UID:5358836c-4462-4c73-b1d5-22b849a8c7ee
X-WR-CALNAME:JCal Pro Calendar
X-WR-CALDESC:Your online events calendar
X-WR-TIMEZONE:UTC
BEGIN:VTIMEZONE
TZID:UTC
END:VTIMEZONE
BEGIN:VEVENT
UID:20201023T180000UTC-5050aTudbv@http://www.denbighchristianacademy.com/
DTSTAMP:20260424T040342Z
CATEGORIES:DCA Events
DESCRIPTION:<p>For Twin Day\, students can&nbsp\;<br />dress the same as a 
 friend.</p>
DTSTART:20201023T000000Z
DTEND:20201023T235959Z
SUMMARY:Twin Day
URL:https://www.denbighchristianacademy.com/index.php/school-calendar/dca-e
 vents/11-dca-events/259-twin-day
X-ALT-DESC;FMTTYPE=TEXT/HTML:<p>For Twin Day\, students can&nbsp\;<br />dre
 ss the same as a friend.</p>
END:VEVENT
END:VCALENDAR
