BEGIN:VCALENDAR
VERSION:2.0
PRODID:-//https://www.denbighchristianacademy.com//NONSGML kigkonsult.se iC
 alcreator 2.29.29//
CALSCALE:GREGORIAN
METHOD:PUBLISH
UID:17f9250b-45a2-431b-b1ad-1a95c07f5ae8
X-WR-CALNAME:JCal Pro Calendar
X-WR-CALDESC:Your online events calendar
X-WR-TIMEZONE:UTC
BEGIN:VTIMEZONE
TZID:UTC
END:VTIMEZONE
BEGIN:VEVENT
UID:20260401T140000UTC-0236VWeSLV@https://www.denbighchristianacademy.com/
DTSTAMP:20260424T211234Z
CATEGORIES:DCA Events
DESCRIPTION:<p>The three year old classrooms will have their student and cl
 ass photos taken today beginning around 8:30.</p>
DTSTART:20260401T000000Z
DTEND:20260401T235959Z
SUMMARY:3 Year Classes Student Photos
URL:https://www.denbighchristianacademy.com/index.php/school-calendar/dca-e
 vents/11-dca-events/1805-3-year-classes-student-photos
X-ALT-DESC;FMTTYPE=TEXT/HTML:<p>The three year old classrooms will have the
 ir student and class photos taken today beginning around 8:30.</p>
END:VEVENT
END:VCALENDAR
