BEGIN:VCALENDAR
VERSION:2.0
PRODID:-//https://www.denbighchristianacademy.com//NONSGML kigkonsult.se iC
 alcreator 2.29.29//
CALSCALE:GREGORIAN
METHOD:PUBLISH
UID:1f16cb9a-ce23-47b1-9459-ffe59312381b
X-WR-CALNAME:JCal Pro Calendar
X-WR-CALDESC:Your online events calendar
X-WR-TIMEZONE:UTC
BEGIN:VTIMEZONE
TZID:UTC
END:VTIMEZONE
BEGIN:VEVENT
UID:20260327T140000UTC-4468vugbld@https://www.denbighchristianacademy.com/
DTSTAMP:20260424T022907Z
CATEGORIES:DCA Events
DESCRIPTION:<p>The third marking period ends today for 4K and 5K. Please si
 gn and return.</p>
DTSTART:20260327T000000Z
DTEND:20260327T235959Z
SUMMARY:3rd Marking Period ends (4K & 5K)
URL:https://www.denbighchristianacademy.com/index.php/school-calendar/dca-e
 vents/11-dca-events/1802-3rd-marking-period-ends-4k-5k
X-ALT-DESC;FMTTYPE=TEXT/HTML:<p>The third marking period ends today for 4K 
 and 5K. Please sign and return.</p>
END:VEVENT
END:VCALENDAR
