BEGIN:VCALENDAR
VERSION:2.0
PRODID:-//https://www.denbighchristianacademy.com//NONSGML kigkonsult.se iC
 alcreator 2.29.29//
CALSCALE:GREGORIAN
METHOD:PUBLISH
UID:c73be922-2f1e-45cc-9059-260c78ed3ffc
X-WR-CALNAME:JCal Pro Calendar
X-WR-CALDESC:Your online events calendar
X-WR-TIMEZONE:UTC
BEGIN:VTIMEZONE
TZID:UTC
END:VTIMEZONE
BEGIN:VEVENT
UID:20250926T160000UTC-2895HCB4tM@https://www.denbighchristianacademy.com/
DTSTAMP:20260425T112150Z
CATEGORIES:DCA Events
DESCRIPTION:<p>The first interim period ends today for 4K and 5K.</p>
DTSTART:20250926T000000Z
DTEND:20250926T235959Z
SUMMARY:First Interim Period ends (4K-5K)
URL:https://www.denbighchristianacademy.com/index.php/school-calendar/dca-e
 vents/11-dca-events/1775-first-interim-period-ends-4k-5k
X-ALT-DESC;FMTTYPE=TEXT/HTML:<p>The first interim period ends today for 4K 
 and 5K.</p>
END:VEVENT
END:VCALENDAR
