BEGIN:VCALENDAR
VERSION:2.0
PRODID:-//https://www.denbighchristianacademy.com//NONSGML kigkonsult.se iC
 alcreator 2.29.29//
CALSCALE:GREGORIAN
METHOD:PUBLISH
UID:fc5d008e-f6a5-4393-b920-61b62369b9df
X-WR-CALNAME:JCal Pro Calendar
X-WR-CALDESC:Your online events calendar
X-WR-TIMEZONE:UTC
BEGIN:VTIMEZONE
TZID:UTC
END:VTIMEZONE
BEGIN:VEVENT
UID:20250505T060000UTC-7673gBJFGF@https://www.denbighchristianacademy.com/
DTSTAMP:20260425T031329Z
CATEGORIES:DCA Events
DESCRIPTION:<p>This week is National Teacher Appreciation week. We will ask
  for volunteers to bring in food items like a main dish or side dish on a 
 couple days.</p>
DTSTART:20250505T060000Z
DTEND:20250509T180000Z
SUMMARY:National Teacher Appreciation Week
URL:https://www.denbighchristianacademy.com/index.php/school-calendar/dca-e
 vents/11-dca-events/1578-national-teacher-appreciation-week
X-ALT-DESC;FMTTYPE=TEXT/HTML:<p>This week is National Teacher Appreciation 
 week. We will ask for volunteers to bring in food items like a main dish o
 r side dish on a couple days.</p>
END:VEVENT
END:VCALENDAR
