BEGIN:VCALENDAR
VERSION:2.0
PRODID:-//https://www.denbighchristianacademy.com//NONSGML kigkonsult.se iC
 alcreator 2.29.29//
CALSCALE:GREGORIAN
METHOD:PUBLISH
UID:cc2c951e-4b1f-4a26-acd5-1cfbd3defe3c
X-WR-CALNAME:JCal Pro Calendar
X-WR-CALDESC:Your online events calendar
X-WR-TIMEZONE:UTC
BEGIN:VTIMEZONE
TZID:UTC
END:VTIMEZONE
BEGIN:VEVENT
UID:20250415T083000UTC-3714ozEVc4@https://www.denbighchristianacademy.com/
DTSTAMP:20260425T042524Z
CATEGORIES:DCA Events
DESCRIPTION:<p>Spring and class pictues will be taken today for 3 year clas
 ses.</p>
DTSTART:20250415T083000Z
DTEND:20250415T103000Z
SUMMARY:Spring and Class Pictures for 3 year classes
URL:https://www.denbighchristianacademy.com/index.php/school-calendar/dca-e
 vents/11-dca-events/1572-spring-and-class-pictures-for-3-year-classes
X-ALT-DESC;FMTTYPE=TEXT/HTML:<p>Spring and class pictues will be taken toda
 y for 3 year classes.</p>
END:VEVENT
END:VCALENDAR
