BEGIN:VCALENDAR
VERSION:2.0
PRODID:-//https://www.denbighchristianacademy.com//NONSGML kigkonsult.se iC
 alcreator 2.29.29//
CALSCALE:GREGORIAN
METHOD:PUBLISH
UID:6ec3f7f9-2833-482e-8c5d-315acc33adf7
X-WR-CALNAME:JCal Pro Calendar
X-WR-CALDESC:Your online events calendar
X-WR-TIMEZONE:UTC
BEGIN:VTIMEZONE
TZID:UTC
END:VTIMEZONE
BEGIN:VEVENT
UID:20250414T083000UTC-8261xpbSUu@https://www.denbighchristianacademy.com/
DTSTAMP:20260425T032800Z
CATEGORIES:DCA Events
DESCRIPTION:<p>Spring and Class Pictures will be taken today for 2 and 2 1/
 2 year classes.</p>
DTSTART:20250414T083000Z
DTEND:20250414T103000Z
SUMMARY:Spring and Class Pictures for 2 and 2 1/2 year Classes
URL:https://www.denbighchristianacademy.com/index.php/school-calendar/dca-e
 vents/11-dca-events/1571-spring-and-class-pictures-for-2-and-2-1-2-year-cl
 asses
X-ALT-DESC;FMTTYPE=TEXT/HTML:<p>Spring and Class Pictures will be taken tod
 ay for 2 and 2 1/2 year classes.</p>
END:VEVENT
END:VCALENDAR
