BEGIN:VCALENDAR
VERSION:2.0
PRODID:-//https://www.denbighchristianacademy.com//NONSGML kigkonsult.se iC
 alcreator 2.29.29//
CALSCALE:GREGORIAN
METHOD:PUBLISH
UID:1e6314a2-e914-4657-aad5-c2885be9e313
X-WR-CALNAME:JCal Pro Calendar
X-WR-CALDESC:Your online events calendar
X-WR-TIMEZONE:UTC
BEGIN:VTIMEZONE
TZID:UTC
END:VTIMEZONE
BEGIN:VEVENT
UID:20250326T150000UTC-5032MMGeLP@https://www.denbighchristianacademy.com/
DTSTAMP:20260425T031328Z
CATEGORIES:DCA Events
DESCRIPTION:<p>3rd Marking Period Reports go home today for 4k and 5k.</p>
DTSTART:20250326T000000Z
DTEND:20250326T235959Z
SUMMARY:Third Marking Period Reports issued (4k-5k)
URL:https://www.denbighchristianacademy.com/index.php/school-calendar/dca-e
 vents/11-dca-events/1569-third-marking-period-reports-issued-4k-5k
X-ALT-DESC;FMTTYPE=TEXT/HTML:<p>3rd Marking Period Reports go home today fo
 r 4k and 5k.</p>
END:VEVENT
END:VCALENDAR
