BEGIN:VCALENDAR
VERSION:2.0
PRODID:-//https://www.denbighchristianacademy.com//NONSGML kigkonsult.se iC
 alcreator 2.29.29//
CALSCALE:GREGORIAN
METHOD:PUBLISH
UID:5872ac59-7002-4394-9bc8-6b0e7a5d89a5
X-WR-CALNAME:JCal Pro Calendar
X-WR-CALDESC:Your online events calendar
X-WR-TIMEZONE:UTC
BEGIN:VTIMEZONE
TZID:UTC
END:VTIMEZONE
BEGIN:VEVENT
UID:20250217T140000UTC-1056NHu9BU@https://www.denbighchristianacademy.com/
DTSTAMP:20260425T032807Z
CATEGORIES:DCA Events
DESCRIPTION:<p>All of DCA is closed for Presidents Day.</p>
DTSTART:20250217T000000Z
DTEND:20250217T235959Z
SUMMARY:President's Day - All of DCA CLOSED
URL:https://www.denbighchristianacademy.com/index.php/school-calendar/dca-e
 vents/11-dca-events/1565-president-s-day-all-of-dca-closed
X-ALT-DESC;FMTTYPE=TEXT/HTML:<p>All of DCA is closed for Presidents Day.</p
 >
END:VEVENT
END:VCALENDAR
