BEGIN:VCALENDAR
VERSION:2.0
PRODID:-//https://www.denbighchristianacademy.com//NONSGML kigkonsult.se iC
 alcreator 2.29.29//
CALSCALE:GREGORIAN
METHOD:PUBLISH
UID:a943f3ff-dd3b-4288-9329-49a513db8087
X-WR-CALNAME:JCal Pro Calendar
X-WR-CALDESC:Your online events calendar
X-WR-TIMEZONE:UTC
BEGIN:VTIMEZONE
TZID:UTC
END:VTIMEZONE
BEGIN:VEVENT
UID:20250122T140000UTC-9200VHocUn@https://www.denbighchristianacademy.com/
DTSTAMP:20260425T031711Z
CATEGORIES:DCA Events
DESCRIPTION:<p>The 2nd Marking Period Repors issued for 4k and 5k.</p>
DTSTART:20250122T000000Z
DTEND:20250122T235959Z
SUMMARY:Second Interim Reports issued (4k & 5k)
URL:https://www.denbighchristianacademy.com/index.php/school-calendar/dca-e
 vents/11-dca-events/1563-second-interim-reports-issued-4k-5k
X-ALT-DESC;FMTTYPE=TEXT/HTML:<p>The 2nd Marking Period Repors issued for 4k
  and 5k.</p>
END:VEVENT
END:VCALENDAR
