BEGIN:VCALENDAR
VERSION:2.0
PRODID:-//https://www.denbighchristianacademy.com//NONSGML kigkonsult.se iC
 alcreator 2.29.29//
CALSCALE:GREGORIAN
METHOD:PUBLISH
UID:f0f52756-c124-48fa-be2f-bb51e03a2fcf
X-WR-CALNAME:JCal Pro Calendar
X-WR-CALDESC:Your online events calendar
X-WR-TIMEZONE:UTC
BEGIN:VTIMEZONE
TZID:UTC
END:VTIMEZONE
BEGIN:VEVENT
UID:20250120T140000UTC-3240VG7CUE@https://www.denbighchristianacademy.com/
DTSTAMP:20260425T031757Z
CATEGORIES:DCA Events
DESCRIPTION:<p>The 2nd Semester begins for 4k and 5k.</p>
DTSTART:20250120T000000Z
DTEND:20250120T235959Z
SUMMARY:Second Semester Begins (4k-5k)
URL:https://www.denbighchristianacademy.com/index.php/school-calendar/dca-e
 vents/11-dca-events/1562-second-marking-period-ends-4k-5k
X-ALT-DESC;FMTTYPE=TEXT/HTML:<p>The 2nd Semester begins for 4k and 5k.</p>
END:VEVENT
END:VCALENDAR
