BEGIN:VCALENDAR
VERSION:2.0
PRODID:-//https://www.denbighchristianacademy.com//NONSGML kigkonsult.se iC
 alcreator 2.29.29//
CALSCALE:GREGORIAN
METHOD:PUBLISH
UID:95b8b983-d57d-41eb-a297-6ffcfe6f9788
X-WR-CALNAME:JCal Pro Calendar
X-WR-CALDESC:Your online events calendar
X-WR-TIMEZONE:UTC
BEGIN:VTIMEZONE
TZID:UTC
END:VTIMEZONE
BEGIN:VEVENT
UID:20241223T060000UTC-0984p4TVsF@https://www.denbighchristianacademy.com/
DTSTAMP:20260425T032807Z
CATEGORIES:DCA Events
DESCRIPTION:<p>All of DCA will be closed for the Christmas holiday beginnin
 g December 23 through January 1.</p>
DTSTART:20241223T060000Z
DTEND:20250101T180000Z
SUMMARY:Christmas Holiday - All of DCA Closed
URL:https://www.denbighchristianacademy.com/index.php/school-calendar/dca-e
 vents/11-dca-events/1553-christmas-holiday-all-of-dca-closed
X-ALT-DESC;FMTTYPE=TEXT/HTML:<p>All of DCA will be closed for the Christmas
  holiday beginning December 23 through January 1.</p>
END:VEVENT
END:VCALENDAR
