BEGIN:VCALENDAR
VERSION:2.0
PRODID:-//https://www.denbighchristianacademy.com//NONSGML kigkonsult.se iC
 alcreator 2.29.29//
CALSCALE:GREGORIAN
METHOD:PUBLISH
UID:af0fa8e3-1718-44cf-8137-a0b96154b208
X-WR-CALNAME:JCal Pro Calendar
X-WR-CALDESC:Your online events calendar
X-WR-TIMEZONE:UTC
BEGIN:VTIMEZONE
TZID:UTC
END:VTIMEZONE
BEGIN:VEVENT
UID:20241212T190000UTC-0846hBkiM4@https://www.denbighchristianacademy.com/
DTSTAMP:20260425T031753Z
CATEGORIES:DCA Events
DESCRIPTION:<p>Denbigh Christian Academy presents our Christmas program for
  all to enjoy beginning at 7:00 p.m. in the sanctuary.</p>
DTSTART:20241212T190000Z
DTEND:20241212T200000Z
SUMMARY:DCA Christmas Program 7 pm in Sanctuary
URL:https://www.denbighchristianacademy.com/index.php/school-calendar/dca-e
 vents/11-dca-events/1551-dca-christmas-program-7-pm-in-sanctuary
X-ALT-DESC;FMTTYPE=TEXT/HTML:<p>Denbigh Christian Academy presents our Chri
 stmas program for all to enjoy beginning at 7:00 p.m. in the sanctuary.</p
 >
END:VEVENT
END:VCALENDAR
