BEGIN:VCALENDAR
VERSION:2.0
PRODID:-//https://www.denbighchristianacademy.com//NONSGML kigkonsult.se iC
 alcreator 2.29.29//
CALSCALE:GREGORIAN
METHOD:PUBLISH
UID:0d446dc7-9b97-42c8-be9c-bab7a8378712
X-WR-CALNAME:JCal Pro Calendar
X-WR-CALDESC:Your online events calendar
X-WR-TIMEZONE:UTC
BEGIN:VTIMEZONE
TZID:UTC
END:VTIMEZONE
BEGIN:VEVENT
UID:20241211T140000UTC-7574GLavFw@https://www.denbighchristianacademy.com/
DTSTAMP:20260425T031711Z
CATEGORIES:DCA Events
DESCRIPTION:<p>The 2nd Interim reports will go home today with 4k and 5k.</
 p>
DTSTART:20241211T000000Z
DTEND:20241211T235959Z
SUMMARY:Second Interim Reports issued (4k & 5k)
URL:https://www.denbighchristianacademy.com/index.php/school-calendar/dca-e
 vents/11-dca-events/1550-second-interim-reports-issued-4k-5k
X-ALT-DESC;FMTTYPE=TEXT/HTML:<p>The 2nd Interim reports will go home today 
 with 4k and 5k.</p>
END:VEVENT
END:VCALENDAR
