BEGIN:VCALENDAR
VERSION:2.0
PRODID:-//https://www.denbighchristianacademy.com//NONSGML kigkonsult.se iC
 alcreator 2.29.29//
CALSCALE:GREGORIAN
METHOD:PUBLISH
UID:68a7a01c-0d10-44e6-90a8-1be5d3902f2a
X-WR-CALNAME:JCal Pro Calendar
X-WR-CALDESC:Your online events calendar
X-WR-TIMEZONE:UTC
BEGIN:VTIMEZONE
TZID:UTC
END:VTIMEZONE
BEGIN:VEVENT
UID:20241117T140000UTC-71278HrI5j@https://www.denbighchristianacademy.com/
DTSTAMP:20260425T032812Z
CATEGORIES:DCA Events
DESCRIPTION:<p>Founder's Day in Honor of Dorothy B. Collins who with Pastor
  Collins began the school in 1977.</p>
DTSTART:20241117T000000Z
DTEND:20241117T235959Z
SUMMARY:Founder's Day in Honor of Dorothy B. Collins
URL:https://www.denbighchristianacademy.com/index.php/school-calendar/dca-e
 vents/11-dca-events/1547-founder-s-day-in-honor-of-dorothy-b-collins
X-ALT-DESC;FMTTYPE=TEXT/HTML:<p>Founder's Day in Honor of Dorothy B. Collin
 s who with Pastor Collins began the school in 1977.</p>
END:VEVENT
END:VCALENDAR
