BEGIN:VCALENDAR
VERSION:2.0
PRODID:-//https://www.denbighchristianacademy.com//NONSGML kigkonsult.se iC
 alcreator 2.29.29//
CALSCALE:GREGORIAN
METHOD:PUBLISH
UID:2900a01a-08b4-411e-bae4-663c3d8c053b
X-WR-CALNAME:JCal Pro Calendar
X-WR-CALDESC:Your online events calendar
X-WR-TIMEZONE:UTC
BEGIN:VTIMEZONE
TZID:UTC
END:VTIMEZONE
BEGIN:VEVENT
UID:20241002T130000UTC-9784PpSMJ9@https://www.denbighchristianacademy.com/
DTSTAMP:20260425T031753Z
CATEGORIES:DCA Events
DESCRIPTION:<p>The first interim reports go home today for 4K and 5K.</p>
DTSTART:20241002T000000Z
DTEND:20241002T235959Z
SUMMARY:First Interim Reports issued (4K-5K)
URL:https://www.denbighchristianacademy.com/index.php/school-calendar/dca-e
 vents/11-dca-events/1538-first-interim-reports-issued-4k-5k
X-ALT-DESC;FMTTYPE=TEXT/HTML:<p>The first interim reports go home today for
  4K and 5K.</p>
END:VEVENT
END:VCALENDAR
