BEGIN:VCALENDAR
VERSION:2.0
PRODID:-//https://www.denbighchristianacademy.com//NONSGML kigkonsult.se iC
 alcreator 2.29.29//
CALSCALE:GREGORIAN
METHOD:PUBLISH
UID:0c60f53b-93af-48eb-934d-71acb08f0ed1
X-WR-CALNAME:JCal Pro Calendar
X-WR-CALDESC:Your online events calendar
X-WR-TIMEZONE:UTC
BEGIN:VTIMEZONE
TZID:UTC
END:VTIMEZONE
BEGIN:VEVENT
UID:20240920T130000UTC-6795lSBrUc@https://www.denbighchristianacademy.com/
DTSTAMP:20260425T031711Z
CATEGORIES:DCA Events
DESCRIPTION:<p>Have fun wearing a fun/playful hat today.</p>
DTSTART:20240920T000000Z
DTEND:20240920T235959Z
SUMMARY:Crazy Hat Day
URL:https://www.denbighchristianacademy.com/index.php/school-calendar/dca-e
 vents/11-dca-events/1536-crazy-hat-day
X-ALT-DESC;FMTTYPE=TEXT/HTML:<p>Have fun wearing a fun/playful hat today.</
 p>
END:VEVENT
END:VCALENDAR
