BEGIN:VCALENDAR
VERSION:2.0
PRODID:-//https://www.denbighchristianacademy.com//NONSGML kigkonsult.se iC
 alcreator 2.29.29//
CALSCALE:GREGORIAN
METHOD:PUBLISH
UID:723fe255-e6cd-4136-a9a2-c22a7e1c957f
X-WR-CALNAME:JCal Pro Calendar
X-WR-CALDESC:Your online events calendar
X-WR-TIMEZONE:UTC
BEGIN:VTIMEZONE
TZID:UTC
END:VTIMEZONE
BEGIN:VEVENT
UID:20240826T120000UTC-1779RKo2ee@https://www.denbighchristianacademy.com/
DTSTAMP:20260425T031851Z
CATEGORIES:DCA Events
DESCRIPTION:<p>The 2024-2025 school year begins today at 8:00 a.m.</p>
DTSTART:20240826T000000Z
DTEND:20240826T235959Z
SUMMARY:First Day of School
URL:https://www.denbighchristianacademy.com/index.php/school-calendar/dca-e
 vents/11-dca-events/1534-first-day-of-school
X-ALT-DESC;FMTTYPE=TEXT/HTML:<p>The 2024-2025 school year begins today at 8
 :00 a.m.</p>
END:VEVENT
END:VCALENDAR
