BEGIN:VCALENDAR
VERSION:2.0
PRODID:-//https://www.denbighchristianacademy.com//NONSGML kigkonsult.se iC
 alcreator 2.29.29//
CALSCALE:GREGORIAN
METHOD:PUBLISH
UID:76b15a7c-1d49-4c45-9daf-0a0235f69548
X-WR-CALNAME:JCal Pro Calendar
X-WR-CALDESC:Your online events calendar
X-WR-TIMEZONE:UTC
BEGIN:VTIMEZONE
TZID:UTC
END:VTIMEZONE
BEGIN:VEVENT
UID:20240819T190000UTC-7901te12KS@https://www.denbighchristianacademy.com/
DTSTAMP:20260425T031111Z
CATEGORIES:DCA Events
DESCRIPTION:<p>Back to School Night will begin in the sanctuary at 7:00 p.m
 .</p>
DTSTART:20240819T190000Z
DTEND:20240819T200000Z
SUMMARY:Back to School Night 7 pm
URL:https://www.denbighchristianacademy.com/index.php/school-calendar/dca-e
 vents/11-dca-events/1533-monday
X-ALT-DESC;FMTTYPE=TEXT/HTML:<p>Back to School Night will begin in the sanc
 tuary at 7:00 p.m.</p>
END:VEVENT
END:VCALENDAR
