BEGIN:VCALENDAR
VERSION:2.0
PRODID:-//https://www.denbighchristianacademy.com//NONSGML kigkonsult.se iC
 alcreator 2.29.29//
CALSCALE:GREGORIAN
METHOD:PUBLISH
UID:e0666632-1718-45af-88a0-a376aa9661d2
X-WR-CALNAME:JCal Pro Calendar
X-WR-CALDESC:Your online events calendar
X-WR-TIMEZONE:UTC
BEGIN:VTIMEZONE
TZID:UTC
END:VTIMEZONE
BEGIN:VEVENT
UID:20240219T060000UTC-1102HD8XXt@https://www.denbighchristianacademy.com/
DTSTAMP:20260425T032807Z
CATEGORIES:DCA Events
DESCRIPTION:<p>All of DCA CLOSED for President's Day.</p>
DTSTART:20240219T000000Z
DTEND:20240219T235959Z
SUMMARY:President's Day - All of DCA CLOSED
URL:https://www.denbighchristianacademy.com/index.php/school-calendar/dca-e
 vents/11-dca-events/1203-president-s-day-all-of-dca-closed
X-ALT-DESC;FMTTYPE=TEXT/HTML:<p>All of DCA CLOSED for President's Day.</p>
END:VEVENT
END:VCALENDAR
