BEGIN:VCALENDAR
VERSION:2.0
PRODID:-//https://www.denbighchristianacademy.com//NONSGML kigkonsult.se iC
 alcreator 2.29.29//
CALSCALE:GREGORIAN
METHOD:PUBLISH
UID:63bd21de-9313-44dc-a8b2-6488e1629c75
X-WR-CALNAME:JCal Pro Calendar
X-WR-CALDESC:Your online events calendar
X-WR-TIMEZONE:UTC
BEGIN:VTIMEZONE
TZID:UTC
END:VTIMEZONE
BEGIN:VEVENT
UID:20191101T180000UTC-0612nVoeGP@http://dca.37west.com/
DTSTAMP:20260425T014047Z
CATEGORIES:DCA Events
DTSTART:20191101T000000Z
DTEND:20191101T235959Z
SUMMARY:First Marking Period ends (44 days) (4K-5K)
URL:https://www.denbighchristianacademy.com/index.php/school-calendar/dca-e
 vents/11-dca-events/12-first-marking-period-ends-44-days-4k-5k
END:VEVENT
END:VCALENDAR
