BEGIN:VCALENDAR
VERSION:2.0
PRODID:-//https://www.denbighchristianacademy.com//NONSGML kigkonsult.se iC
 alcreator 2.29.29//
CALSCALE:GREGORIAN
METHOD:PUBLISH
UID:9f126712-7524-4033-882c-fb3443cda564
X-WR-CALNAME:JCal Pro Calendar
X-WR-CALDESC:Your online events calendar
X-WR-TIMEZONE:UTC
BEGIN:VTIMEZONE
TZID:UTC
END:VTIMEZONE
BEGIN:VEVENT
UID:20240115T060000UTC-2264S9FfRl@https://www.denbighchristianacademy.com/
DTSTAMP:20260425T032807Z
CATEGORIES:DCA Events
DESCRIPTION:<p>All of DCA CLOSED for Martin Luther King Day.</p>
DTSTART:20240115T000000Z
DTEND:20240115T235959Z
SUMMARY:Martin Luther King Day - All of DCA CLOSED
URL:https://www.denbighchristianacademy.com/index.php/school-calendar/dca-e
 vents/11-dca-events/1198-martin-luther-king-day-all-of-dca-closed
X-ALT-DESC;FMTTYPE=TEXT/HTML:<p>All of DCA CLOSED for Martin Luther King Da
 y.</p>
END:VEVENT
END:VCALENDAR
