BEGIN:VCALENDAR
VERSION:2.0
PRODID:-//https://www.denbighchristianacademy.com//NONSGML kigkonsult.se iC
 alcreator 2.29.29//
CALSCALE:GREGORIAN
METHOD:PUBLISH
UID:3428eeda-740d-4c08-aae9-d1006c1d5272
X-WR-CALNAME:JCal Pro Calendar
X-WR-CALDESC:Your online events calendar
X-WR-TIMEZONE:UTC
BEGIN:VTIMEZONE
TZID:UTC
END:VTIMEZONE
BEGIN:VEVENT
UID:20231225T060000UTC-5462UVMGxD@https://www.denbighchristianacademy.com/
DTSTAMP:20260425T032812Z
CATEGORIES:DCA Events
DTSTART:20231225T060000Z
DTEND:20231229T180000Z
SUMMARY:Christmas Holiday - Dec 25 - December 29\, 2023 - All of DCA CLOSED
URL:https://www.denbighchristianacademy.com/index.php/school-calendar/dca-e
 vents/11-dca-events/1195-christmas-holiday-dec-25-december-29-2023-all-of-
 dca-closed
END:VEVENT
END:VCALENDAR
