BEGIN:VCALENDAR
VERSION:2.0
PRODID:-//https://www.denbighchristianacademy.com//NONSGML kigkonsult.se iC
 alcreator 2.29.29//
CALSCALE:GREGORIAN
METHOD:PUBLISH
UID:d1e6a8c4-69fa-460f-b458-0eecb2df3d03
X-WR-CALNAME:JCal Pro Calendar
X-WR-CALDESC:Your online events calendar
X-WR-TIMEZONE:UTC
BEGIN:VTIMEZONE
TZID:UTC
END:VTIMEZONE
BEGIN:VEVENT
UID:20231218T060000UTC-0137KhPdmh@https://www.denbighchristianacademy.com/
DTSTAMP:20260425T032812Z
CATEGORIES:DCA Events
DESCRIPTION:<p>All of DCA will be CLOSED for the Christmas Holiday from Dec
 ember 18\, 2023\, through January 1\, 2024.</p>
DTSTART:20231218T060000Z
DTEND:20231222T180000Z
SUMMARY:Christmas Holiday - Dec 18 - December 22\, 2023 - All of DCA CLOSED
URL:https://www.denbighchristianacademy.com/index.php/school-calendar/dca-e
 vents/11-dca-events/1194-christmas-holiday-dec-18-january-1-all-of-dca-clo
 sed
X-ALT-DESC;FMTTYPE=TEXT/HTML:<p>All of DCA will be CLOSED for the Christmas
  Holiday from December 18\, 2023\, through January 1\, 2024.</p>
END:VEVENT
END:VCALENDAR
