BEGIN:VCALENDAR
VERSION:2.0
PRODID:-//https://www.denbighchristianacademy.com//NONSGML kigkonsult.se iC
 alcreator 2.29.29//
CALSCALE:GREGORIAN
METHOD:PUBLISH
UID:90a20999-f5b6-4a77-bfbb-2d0819555dc8
X-WR-CALNAME:JCal Pro Calendar
X-WR-CALDESC:Your online events calendar
X-WR-TIMEZONE:UTC
BEGIN:VTIMEZONE
TZID:UTC
END:VTIMEZONE
BEGIN:VEVENT
UID:20231215T060000UTC-0213uEAgII@https://www.denbighchristianacademy.com/
DTSTAMP:20260425T042523Z
CATEGORIES:DCA Events
DESCRIPTION:<p>Students and Staff can wear Red and Green festive clothing t
 oday.</p>
DTSTART:20231215T000000Z
DTEND:20231215T235959Z
SUMMARY:Red & Green Day
URL:https://www.denbighchristianacademy.com/index.php/school-calendar/dca-e
 vents/11-dca-events/1193-red-green-day
X-ALT-DESC;FMTTYPE=TEXT/HTML:<p>Students and Staff can wear Red and Green f
 estive clothing today.</p>
END:VEVENT
END:VCALENDAR
