BEGIN:VCALENDAR
VERSION:2.0
PRODID:-//https://www.denbighchristianacademy.com//NONSGML kigkonsult.se iC
 alcreator 2.29.29//
CALSCALE:GREGORIAN
METHOD:PUBLISH
UID:382ba568-c4c4-4261-85b4-ea6731896bba
X-WR-CALNAME:JCal Pro Calendar
X-WR-CALDESC:Your online events calendar
X-WR-TIMEZONE:UTC
BEGIN:VTIMEZONE
TZID:UTC
END:VTIMEZONE
BEGIN:VEVENT
UID:20231208T060000UTC-8400n1KNJP@https://www.denbighchristianacademy.com/
DTSTAMP:20260425T031840Z
CATEGORIES:DCA Events
DESCRIPTION:The Second Interim period ends today for 4K and 5K.
DTSTART:20231208T000000Z
DTEND:20231208T235959Z
SUMMARY:2nd Interim Periods ends (4k-5K)
URL:https://www.denbighchristianacademy.com/index.php/school-calendar/dca-e
 vents/11-dca-events/1190-2nd-interim-periods-ends-4k-5k
X-ALT-DESC;FMTTYPE=TEXT/HTML:The Second Interim period ends today for 4K an
 d 5K.
END:VEVENT
END:VCALENDAR
