BEGIN:VCALENDAR
VERSION:2.0
PRODID:-//https://www.denbighchristianacademy.com//NONSGML kigkonsult.se iC
 alcreator 2.29.29//
CALSCALE:GREGORIAN
METHOD:PUBLISH
UID:0e2095a9-c083-481a-8862-08ec7774ff50
X-WR-CALNAME:JCal Pro Calendar
X-WR-CALDESC:Your online events calendar
X-WR-TIMEZONE:UTC
BEGIN:VTIMEZONE
TZID:UTC
END:VTIMEZONE
BEGIN:VEVENT
UID:20231117T060000UTC-5130MevNxb@https://www.denbighchristianacademy.com/
DTSTAMP:20260425T032813Z
CATEGORIES:DCA Events
DTSTART:20231117T000000Z
DTEND:20231117T235959Z
SUMMARY:Founder's Day - In Honor of Dorothy B. Collins
URL:https://www.denbighchristianacademy.com/index.php/school-calendar/dca-e
 vents/11-dca-events/1188-founder-s-day-in-honor-of-dorothy-b-collins
END:VEVENT
END:VCALENDAR
